BEGIN:VCALENDAR
VERSION:2.0
PRODID:-//Northern Lights Teaching School Hub - ECPv6.7.0//NONSGML v1.0//EN
CALSCALE:GREGORIAN
METHOD:PUBLISH
X-ORIGINAL-URL:https://northernlightstsh.co.uk
X-WR-CALDESC:Events for Northern Lights Teaching School Hub
REFRESH-INTERVAL;VALUE=DURATION:PT1H
X-Robots-Tag:noindex
X-PUBLISHED-TTL:PT1H
BEGIN:VTIMEZONE
TZID:Europe/London
BEGIN:DAYLIGHT
TZOFFSETFROM:+0000
TZOFFSETTO:+0100
TZNAME:BST
DTSTART:20240331T010000
END:DAYLIGHT
BEGIN:STANDARD
TZOFFSETFROM:+0100
TZOFFSETTO:+0000
TZNAME:GMT
DTSTART:20241027T010000
END:STANDARD
END:VTIMEZONE
BEGIN:VEVENT
DTSTART;TZID=Europe/London:20240523T130000
DTEND;TZID=Europe/London:20240523T150000
DTSTAMP:20260420T215308
CREATED:20240129T094033Z
LAST-MODIFIED:20240129T095023Z
UID:1351-1716469200-1716476400@northernlightstsh.co.uk
SUMMARY:Fostering ECT Professionalism - Mentor Session
DESCRIPTION:As an experienced teacher\, head of department\, and PGCE mentor Caroline knows well the impact excellent teaching can have on student outcomes. Her associated pastoral work as a mindfulness teacher\, tutor\, and counselling and peer support lead informs her appreciation of the importance of educators at all stages in their career being happy and healthy in their vital work. \n\n\n\nMentors will cover the following in their session: \n\n\n\n\nCommunication and effective working relationships\n\n\n\nManagement of workload and wellbeing\n\n\n\nAppreciation of moving from Novice to Expert\n\n\n\nContribution to the school community\n\n\n\n\n\n\n\n\n\n\n\n\nWe advise that your ECT also attends the ECT version of this training as this is a 2-part training. They can book the session here.
URL:https://northernlightstsh.co.uk/event/fostering-ect-professionalism-mentor-session/
END:VEVENT
END:VCALENDAR