BEGIN:VCALENDAR
VERSION:2.0
PRODID:-//Northern Lights Teaching School Hub - ECPv6.7.0//NONSGML v1.0//EN
CALSCALE:GREGORIAN
METHOD:PUBLISH
X-WR-CALNAME:Northern Lights Teaching School Hub
X-ORIGINAL-URL:https://northernlightstsh.co.uk
X-WR-CALDESC:Events for Northern Lights Teaching School Hub
REFRESH-INTERVAL;VALUE=DURATION:PT1H
X-Robots-Tag:noindex
X-PUBLISHED-TTL:PT1H
BEGIN:VTIMEZONE
TZID:Europe/London
BEGIN:DAYLIGHT
TZOFFSETFROM:+0000
TZOFFSETTO:+0100
TZNAME:BST
DTSTART:20240331T010000
END:DAYLIGHT
BEGIN:STANDARD
TZOFFSETFROM:+0100
TZOFFSETTO:+0000
TZNAME:GMT
DTSTART:20241027T010000
END:STANDARD
END:VTIMEZONE
BEGIN:VEVENT
DTSTART;TZID=Europe/London:20240625T093000
DTEND;TZID=Europe/London:20240625T144500
DTSTAMP:20260420T215020
CREATED:20240125T123321Z
LAST-MODIFIED:20240621T082416Z
UID:1342-1719307800-1719326700@northernlightstsh.co.uk
SUMMARY:New to EYFS
DESCRIPTION:This course is designed to support teachers who are new to EYFS or within their first year. You will work alongside others to learn the theory and see it in practice at the Stronger Practice Hub’s lead EY Provision. \n\n\n\nYou will leave this course having built networks with other practitioners\, practical strategies to implement and an understanding of the statutory requirements.
URL:https://northernlightstsh.co.uk/event/new-to-eyfs/
LOCATION:Benedict Biscop C.E. Academy\, Marcross Drive\, Sunderland\, North of England\, SR3 2RE
END:VEVENT
END:VCALENDAR